BEGIN:VCALENDAR
VERSION:2.0
PRODID:-//Association for Academic Language and Learning - ECPv6.1.3//NONSGML v1.0//EN
CALSCALE:GREGORIAN
METHOD:PUBLISH
X-WR-CALNAME:Association for Academic Language and Learning
X-ORIGINAL-URL:https://www.aall.org.au
X-WR-CALDESC:Events for Association for Academic Language and Learning
REFRESH-INTERVAL;VALUE=DURATION:PT1H
X-Robots-Tag:noindex
X-PUBLISHED-TTL:PT1H
BEGIN:VTIMEZONE
TZID:Australia/Sydney
BEGIN:STANDARD
TZOFFSETFROM:+1100
TZOFFSETTO:+1000
TZNAME:AEST
DTSTART:20240406T160000
END:STANDARD
BEGIN:DAYLIGHT
TZOFFSETFROM:+1000
TZOFFSETTO:+1100
TZNAME:AEDT
DTSTART:20241005T160000
END:DAYLIGHT
BEGIN:STANDARD
TZOFFSETFROM:+1100
TZOFFSETTO:+1000
TZNAME:AEST
DTSTART:20250405T160000
END:STANDARD
BEGIN:DAYLIGHT
TZOFFSETFROM:+1000
TZOFFSETTO:+1100
TZNAME:AEDT
DTSTART:20251004T160000
END:DAYLIGHT
TZID:Australia/Melbourne
BEGIN:STANDARD
TZOFFSETFROM:+1100
TZOFFSETTO:+1000
TZNAME:AEST
DTSTART:20230401T160000
END:STANDARD
BEGIN:DAYLIGHT
TZOFFSETFROM:+1000
TZOFFSETTO:+1100
TZNAME:AEDT
DTSTART:20230930T160000
END:DAYLIGHT
TZID:Australia/Melbourne
BEGIN:STANDARD
TZOFFSETFROM:+1100
TZOFFSETTO:+1000
TZNAME:AEST
DTSTART:20220402T160000
END:STANDARD
BEGIN:DAYLIGHT
TZOFFSETFROM:+1000
TZOFFSETTO:+1100
TZNAME:AEDT
DTSTART:20221001T160000
END:DAYLIGHT
END:VTIMEZONE
BEGIN:VEVENT
DTSTART;TZID=Australia/Sydney:20251015T130000
DTEND;TZID=Australia/Sydney:20251015T140000
DTSTAMP:20260421T215848
CREATED:20250920T081712Z
LAST-MODIFIED:20250920T081712Z
UID:13499-1760533200-1760536800@www.aall.org.au
SUMMARY:AALL Connect Inspire Share #4 – Becoming an International Student
DESCRIPTION:The AALL PD Committee is very happy to invite you all to our final Connect. Inspire. Share session for 2025 on Wednesday\, 15 October\, 1-2pm AEDT (Note: daylight savings time). \nOur presenter Dr. Jinqi Xu\, author and Senior Lecturer at the University of Sydney\, specialising in interdisciplinary education and inclusive teaching\, will present on Becoming an International Student.
URL:https://www.aall.org.au/event/aall-connect-inspire-share-4-becoming-an-international-student/
LOCATION:Online
CATEGORIES:Seminar with discussion
ATTACH;FMTTYPE=image/png:https://www.aall.org.au/wp-content/uploads/2023/01/noun-networking-140091-e1680177552231.png
END:VEVENT
BEGIN:VEVENT
DTSTART;TZID=Australia/Sydney:20250805T130000
DTEND;TZID=Australia/Sydney:20250805T140000
DTSTAMP:20260421T215848
CREATED:20250706T063852Z
LAST-MODIFIED:20250706T063852Z
UID:13335-1754398800-1754402400@www.aall.org.au
SUMMARY:AALL Connect Inspire Share #3 – Accessibility in action: Designing and advising on PowerPoint presentations for all learners – 5 August 2025
DESCRIPTION:Our third Connect Inspire Share session for 2025 is presented by Alice Lee\, Team Coordinator\, Academic Skills Unit\, Centre for Education and Innovation at Australian Catholic University. The session  title is ‘Accessibility in action: Designing and advising on PowerPoint presentations for all learners’ . \n 
URL:https://www.aall.org.au/event/aall-connect-inspire-share-3-accessibility-in-action-designing-and-advising-on-powerpoint-presentations-for-all-learners-5-august-2025/
LOCATION:Online
CATEGORIES:Seminar with discussion
ATTACH;FMTTYPE=image/png:https://www.aall.org.au/wp-content/uploads/2023/01/noun-networking-140091-e1680177552231.png
END:VEVENT
BEGIN:VEVENT
DTSTART;TZID=Australia/Sydney:20250521T130000
DTEND;TZID=Australia/Sydney:20250521T140000
DTSTAMP:20260421T215848
CREATED:20250511T073443Z
LAST-MODIFIED:20250511T073443Z
UID:13197-1747832400-1747836000@www.aall.org.au
SUMMARY:AALL Connect Inspire Share #2 – Trauma-Informed Education: A Gazan Perspective – 21 May 2025
DESCRIPTION:Our second Connect Inspire Share session for 2025 is a co-presentation from an Australia-based learning advisor\, Dr Martin McMorrow\, and a Palestinian academic\, Dr Ahmed Junina\, based in Gaza. They will cover the principles of Trauma-Informed Education: Safety\, Trustworthiness\, Choice\, Collaboration\, and Empowerment\, and discuss a project in Gaza.
URL:https://www.aall.org.au/event/aall-connect-inspire-share-2-trauma-informed-education-a-gazan-perspective-21-may-2025/
LOCATION:Online
CATEGORIES:Seminar with discussion
ATTACH;FMTTYPE=image/png:https://www.aall.org.au/wp-content/uploads/2023/01/noun-networking-140091-e1680177552231.png
END:VEVENT
BEGIN:VEVENT
DTSTART;TZID=Australia/Sydney:20250319T130000
DTEND;TZID=Australia/Sydney:20250319T140000
DTSTAMP:20260421T215848
CREATED:20250302T014244Z
LAST-MODIFIED:20250302T014506Z
UID:13072-1742389200-1742392800@www.aall.org.au
SUMMARY:AALL Connect Inspire Share #1 – Student Panel – 19 March 2025
DESCRIPTION:This is an invitation to our first Connect. Inspire. Share session for 2025 on Wednesday 19 March\, 1-2pm AEDST \nThis edition of the series is titled: Fellowships: recognising ALL educators’ teaching and learning expertise.
URL:https://www.aall.org.au/event/aall-connect-inspire-share-1-student-panel-19-march-2025/
CATEGORIES:Seminar with discussion
ATTACH;FMTTYPE=image/png:https://www.aall.org.au/wp-content/uploads/2023/01/noun-networking-140091-e1680177552231.png
END:VEVENT
BEGIN:VEVENT
DTSTART;TZID=Australia/Sydney:20241009T130000
DTEND;TZID=Australia/Sydney:20241009T140000
DTSTAMP:20260421T215848
CREATED:20240914T054947Z
LAST-MODIFIED:20240914T054947Z
UID:12768-1728478800-1728482400@www.aall.org.au
SUMMARY:AALL Connect Inspire Share #5 - Student Panel - 9 October 2024
DESCRIPTION:This is an invitation to our fifth Connect. Inspire. Share session for 2024 on Wednesday 9 October 1-2pm AEDT. \nThis edition of the series is a panel session of students representing five universities. \nMore details here…
URL:https://www.aall.org.au/event/aall-connect-inspire-share-5-student-panel-9-october-2024/
LOCATION:Online
CATEGORIES:Seminar with discussion
ATTACH;FMTTYPE=image/png:https://www.aall.org.au/wp-content/uploads/2023/01/noun-networking-140091-e1680177552231.png
END:VEVENT
BEGIN:VEVENT
DTSTART;TZID=Australia/Sydney:20240821T130000
DTEND;TZID=Australia/Sydney:20240821T140000
DTSTAMP:20260421T215848
CREATED:20240728T071742Z
LAST-MODIFIED:20240728T071742Z
UID:12685-1724245200-1724248800@www.aall.org.au
SUMMARY:Connect. Inspire. Share. panel session on 'Supporting neurodiverse students'
DESCRIPTION:This is an invitation to our fourth Connect. Inspire. Share session for 2024 on Wednesday\, 21 August\, 1-2pm AEST. \nThis edition of the series is a panel session titled: Supporting neurodiverse students. \nMore details here…
URL:https://www.aall.org.au/event/connect-inspire-share-panel-session-on-supporting-neurodiverse-students/
LOCATION:Online
CATEGORIES:Seminar with discussion
ATTACH;FMTTYPE=image/png:https://www.aall.org.au/wp-content/uploads/2023/01/noun-networking-140091-e1680177552231.png
END:VEVENT
BEGIN:VEVENT
DTSTART;TZID=Australia/Sydney:20240529T130000
DTEND;TZID=Australia/Sydney:20240529T140000
DTSTAMP:20260421T215848
CREATED:20240505T005807Z
LAST-MODIFIED:20240505T005807Z
UID:12585-1716987600-1716991200@www.aall.org.au
SUMMARY:Connect. Inspire. Share. panel session on 'Delivery and pedagogy of 1-1 Academic Skills advising'
DESCRIPTION:This is an invitation to our third Connect. Inspire. Share session for 2024 on Wednesday 29 May\, 1-2pm AEST. \nDr Huifang Li is facilitating a panel on the delivery and pedagogy of 1-1 Academic Skills advising. Another not-to-be-missed session! \nMore details here…
URL:https://www.aall.org.au/event/connect-inspire-share-panel-session-on-delivery-and-pedagogy-of-1-1-academic-skills-advising/
LOCATION:Online
CATEGORIES:Seminar with discussion
ATTACH;FMTTYPE=image/png:https://www.aall.org.au/wp-content/uploads/2023/01/noun-networking-140091-e1680177552231.png
END:VEVENT
BEGIN:VEVENT
DTSTART;TZID=Australia/Melbourne:20230503T153000
DTEND;TZID=Australia/Melbourne:20230503T170000
DTSTAMP:20260421T215848
CREATED:20210219T164434Z
LAST-MODIFIED:20230414T203449Z
UID:9878-1683127800-1683133200@www.aall.org.au
SUMMARY:AALL’s Connect. Inspire. Share. 2023 #2 on 3 May\, 3.30-5pm AEST.
DESCRIPTION:‘Connect. Inspire. Share.’ is an AALL professional development series\, that invites AALL members to: \n\nConnect – with other AALL members\nInspire – hear and learn from inspirational speakers about Teaching and Learning\nShare – discuss and share perspectives on contemporary issues in the field of Academic Language and Learning\n\nJoin us for our next event ‘How do we make better decisions in higher education? with John Mahoney\, the academic lead of ACU’s INSPIRE project\, on Wednesday 3rd May\, 3:30pm AEST (find the time in my location). For more details\, click here.
URL:https://www.aall.org.au/event/season-3-of-aalls-connect-inspire-share-continues-on-22-march-2022/
LOCATION:Online
CATEGORIES:Seminar with discussion
ATTACH;FMTTYPE=image/jpeg:https://www.aall.org.au/wp-content/uploads/2020/10/Connect-Inspire-Share-image.jpg
END:VEVENT
BEGIN:VEVENT
DTSTART;TZID=Australia/Melbourne:20220616T153000
DTEND;TZID=Australia/Melbourne:20220616T170000
DTSTAMP:20260421T215848
CREATED:20210602T152855Z
LAST-MODIFIED:20220613T213519Z
UID:10381-1655393400-1655398800@www.aall.org.au
SUMMARY:Meet the Author with Clare Power and Evelyn Hibbert
DESCRIPTION:‘Meet the Author’ is a series of professional conversations hosted by the AALL Professional Development Committee as part of the Connect.Inspire.Share. PD series. You will hear from the authors of Journal of Academic Language and Learning (JALL) articles and have an opportunity to engage in lively discussion about their ideas. \nJoin us for our first ‘Meet the Author’ PD session for 2022 with Clare Power and Evelyn Hibbert: The development and implementation of transitional and peer programs in ALL contexts. \nWe invite members to join us online at 3.30pm AEST on Thursday\, 16 June 2022. You can find more details and learn about previous PD events on our Connect.Inspire.Share. professional development page.
URL:https://www.aall.org.au/event/meet-the-author-event-3/
LOCATION:Online
CATEGORIES:Seminar with discussion
END:VEVENT
END:VCALENDAR